BEGIN:VCALENDAR
VERSION:2.0
PRODID:-//LA Dance Calendar - ECPv6.15.20//NONSGML v1.0//EN
CALSCALE:GREGORIAN
METHOD:PUBLISH
X-WR-CALNAME:LA Dance Calendar
X-ORIGINAL-URL:https://ladancecalendar.com
X-WR-CALDESC:Events for LA Dance Calendar
REFRESH-INTERVAL;VALUE=DURATION:PT1H
X-Robots-Tag:noindex
X-PUBLISHED-TTL:PT1H
BEGIN:VTIMEZONE
TZID:America/Los_Angeles
BEGIN:DAYLIGHT
TZOFFSETFROM:-0800
TZOFFSETTO:-0700
TZNAME:PDT
DTSTART:20250309T100000
END:DAYLIGHT
BEGIN:STANDARD
TZOFFSETFROM:-0700
TZOFFSETTO:-0800
TZNAME:PST
DTSTART:20251102T090000
END:STANDARD
BEGIN:DAYLIGHT
TZOFFSETFROM:-0800
TZOFFSETTO:-0700
TZNAME:PDT
DTSTART:20260308T100000
END:DAYLIGHT
BEGIN:STANDARD
TZOFFSETFROM:-0700
TZOFFSETTO:-0800
TZNAME:PST
DTSTART:20261101T090000
END:STANDARD
BEGIN:DAYLIGHT
TZOFFSETFROM:-0800
TZOFFSETTO:-0700
TZNAME:PDT
DTSTART:20270314T100000
END:DAYLIGHT
BEGIN:STANDARD
TZOFFSETFROM:-0700
TZOFFSETTO:-0800
TZNAME:PST
DTSTART:20271107T090000
END:STANDARD
END:VTIMEZONE
BEGIN:VEVENT
DTSTART;TZID=America/Los_Angeles:20260422T204500
DTEND;TZID=America/Los_Angeles:20260422T214500
DTSTAMP:20260422T013737
CREATED:20260421T171221Z
LAST-MODIFIED:20260421T171221Z
UID:10002910-1776890700-1776894300@ladancecalendar.com
SUMMARY:Mad Hot Bollywood - Blue13 Dance Company
DESCRIPTION:Your new weekly Bollywood dance party in LA. \nThis isn’t a class—it’s a vibe. Move\, sweat\, and celebrate to a live DJ every week in a high-energy\, follow-along Bollywood dance experience designed for all levels (yes\, even “I don’t dance” dancers). Led by Achinta Sawhny McDaniel\, the OG Bollywood dance master credited with introducing Los Angeles to Bollywood 25 years ago\, Mad Hot Bollywood brings legacy\, swagger\, and pure joy to the dance floor. Backing the heat is a playlist of nonstop Bollywood bangers that keep the room pulsing and the energy sky-high. \nExpect: \n\nSexy\, joyful movement\nA welcoming\, judgment-free dance floor\nReal Indian dopeness\, no performative nonsense\nA room full of grown-ups dancing like nobody’s watching\n\nLiquid courage is available (but never required). Come as you are—leave sweaty\, smiling\, and a little obsessed. \nMad Hot Bollywood: where LA comes to dance\, glow\, and feel damn good.
URL:https://ladancecalendar.com/event/mad-hot-bollywood-blue13-dance-company/2026-04-22/
LOCATION:The Pickle Factory at Frogtown Creative\, 2828 Gilroy St\, Los Angeles\, CA\, Los Angeles\, CA\, 90039\, United States
CATEGORIES:Class and Workshops
ATTACH;FMTTYPE=image/png:https://ladancecalendar.com/wp-content/uploads/2026/04/Screen-Shot-2026-04-21-at-10.11.52-AM.png
END:VEVENT
END:VCALENDAR