BEGIN:VCALENDAR
VERSION:2.0
PRODID:-//LA Dance Calendar - ECPv6.15.20//NONSGML v1.0//EN
CALSCALE:GREGORIAN
METHOD:PUBLISH
X-WR-CALNAME:LA Dance Calendar
X-ORIGINAL-URL:https://ladancecalendar.com
X-WR-CALDESC:Events for LA Dance Calendar
REFRESH-INTERVAL;VALUE=DURATION:PT1H
X-Robots-Tag:noindex
X-PUBLISHED-TTL:PT1H
BEGIN:VTIMEZONE
TZID:America/Los_Angeles
BEGIN:DAYLIGHT
TZOFFSETFROM:-0800
TZOFFSETTO:-0700
TZNAME:PDT
DTSTART:20240310T100000
END:DAYLIGHT
BEGIN:STANDARD
TZOFFSETFROM:-0700
TZOFFSETTO:-0800
TZNAME:PST
DTSTART:20241103T090000
END:STANDARD
BEGIN:DAYLIGHT
TZOFFSETFROM:-0800
TZOFFSETTO:-0700
TZNAME:PDT
DTSTART:20250309T100000
END:DAYLIGHT
BEGIN:STANDARD
TZOFFSETFROM:-0700
TZOFFSETTO:-0800
TZNAME:PST
DTSTART:20251102T090000
END:STANDARD
BEGIN:DAYLIGHT
TZOFFSETFROM:-0800
TZOFFSETTO:-0700
TZNAME:PDT
DTSTART:20260308T100000
END:DAYLIGHT
BEGIN:STANDARD
TZOFFSETFROM:-0700
TZOFFSETTO:-0800
TZNAME:PST
DTSTART:20261101T090000
END:STANDARD
END:VTIMEZONE
BEGIN:VEVENT
DTSTART;TZID=America/Los_Angeles:20250123T000000
DTEND;TZID=America/Los_Angeles:20250214T235959
DTSTAMP:20260422T002423
CREATED:20250124T001918Z
LAST-MODIFIED:20250201T043415Z
UID:10000017-1737590400-1739577599@ladancecalendar.com
SUMMARY:OUT THERE– Open Applications
DESCRIPTION:Application Due February 14\, 2025 | 11:59PM \nVelocity Dance Center is proud to announce a call for OUT THERE. OUT THERE is an annual\, two week dance festival that bolsters West Coast movement artists for their lineage of making work that innovates our field. This festival is for artists that have the audacity\, bravado\, and experimental spirit\, to vision their work to new scales. \nOUT THERE showcases two different weekends with two different artists each weekend– a new\, thirty minute work by a Seattle Artist which is made in residence at SFD+I and the Seattle premiere of an existing thirty minute work by an artist from the West Coast Region. This structure fills the need in our community for shared\, regional discourse and connection to Seattle artists and touring opportunities for artists in the greater West Coast Region. \nThis festival is part of Velocity’s Regionally Emerging Creative Incubator and is recommended for artists who have participated in festival style shows before and are looking to build regional audiences around their work and expand their skills on the following: \nArtistic mentorship: mentorship and community support to make artistically innovative projects.\nFinancial resources: fees to pay yourself\, your collaborators\, and your project expenses.\nReciprocal Relationship building: understanding your part in the larger ecology\, and how to work collaboratively to connect and sustain your career within your ecosystem of artistic collaborators\, local and national presenters\, funders\, and audiences.\nBusiness development: how to manage projects and undertake long-term collaborations and career planning.\nAs Velocity\, we love to throw around the word experimentalism. But what does it mean? We are interested in experimentation as a context we provide to audiences and art makers to hold new\, innovative ideas that push their form into new places. Experimentation can take place in any dance form and doesn’t have a singular look to us. If you have more questions about “experimentalism” feel free to reach out to Shane (shane@velocitydancecenter.org).
URL:https://ladancecalendar.com/event/out-there-open-applications/
CATEGORIES:Open Calls,Resources
ATTACH;FMTTYPE=image/png:https://ladancecalendar.com/wp-content/uploads/2025/01/OUT_THERE_application.png
ORGANIZER;CN="Velocity Dance Center":MAILTO:communications@velocitydancecenter.org
END:VEVENT
BEGIN:VEVENT
DTSTART;TZID=America/Los_Angeles:20250123T080000
DTEND;TZID=America/Los_Angeles:20250221T170000
DTSTAMP:20260422T002423
CREATED:20250201T043303Z
LAST-MODIFIED:20250201T043303Z
UID:10000020-1737619200-1740157200@ladancecalendar.com
SUMMARY:Brockus Project Studio's Open Call for Choreographers
DESCRIPTION:OPEN CALL FOR CHOREOGRAPHERS!\nChosen works will perform either FEB 22nd at 8PM or FEB 23rd at 6PM \nAudience will vote each night for the top work and winner will receive 30 free studio hours at Brockus Project studio! \n• submit to LAdancefestival@gmail.com:\n– CV\n– Description of proposed work\n– 2 video link either YouTube or Vimeo\n– 4 photos labeled with name and photographer
URL:https://ladancecalendar.com/event/brockus-project-studios-open-call-for-choreographers/
CATEGORIES:Auditions
ATTACH;FMTTYPE=image/jpeg:https://ladancecalendar.com/wp-content/uploads/2025/01/brovkus.jpg
END:VEVENT
END:VCALENDAR